Workbook
Name A_upperBound: 'ADBUDG Model'!$H$2
Name AvePrice: Forecasting!$BD$31
Name B_LowerBound: 'ADBUDG Model'!$H$3
Name c_: Forecasting!$AZ$43
Name C_S_Shape: 'ADBUDG Model'!$H$4
Name Contribution: Forecasting!$BD$30
Name Copy: Forecasting!$BD$27
Name CPP: 'ME_value-in-use_hidden'!$B$15
Name d: Forecasting!$AZ$42
Name d_rate: 'ME_value-in-use_hidden'!$B$9
Name DMULT: 'ME_value-in-use_hidden'!$G$6
Name growth: 'ME_value-in-use_hidden'!$B$12
Name listNameInd: [1]wshDia!$J$2
Name LRMin: Forecasting!$BD$26
Name Max: Forecasting!$BD$23
Name MCOST: 'ME_value-in-use_hidden'!$B$14
Name Media: Forecasting!$BD$28
Name Min: Forecasting!$BD$25
Name MPRICE: 'ME_value-in-use_hidden'!$B$6
Name N_years: 'ME_value-in-use_hidden'!$B$13
Name new_ppp: 'ME_value-in-use_hidden'!$B$17
Name new_ppp_inc: 'ME_value-in-use_hidden'!$B$10
Name Old_ppp: 'ME_value-in-use_hidden'!$B$18
Name Old_ppp_inc: 'ME_value-in-use_hidden'!$B$11
Name Persistence: Forecasting!$AZ$37
Name Previous: Forecasting!#REF!
Name Price: Forecasting!$BD$29
Name Sales: Forecasting!$BD$34
Name SV_New: 'ME_value-in-use_hidden'!$B$7
Name SV_Old: 'ME_value-in-use_hidden'!$B$8

Sheet Overview
A1: ADBUDG model proposed by John Little of MIT. The model assumes that: S=b+(a−b)*(A^c)/(d+A^c) S: Sales; A: Advertizing budge The model generates an s-shaped curve for c>1 and sales are bounded between b and a. Estimating the model requires you to use non-linear least squares where you minimize the squared sum of residual errors between the actual sales and estimated sales using the function above. Implementing the above should be possible in Excel (using its in-built optimization routines) or other platforms such as R, Python etc.

Sheet ADBUDG Model
F1: Y(Sales)=b+(a−b)*(X^c)/(d+X^c); X is Ad budget
G2: a | H2: 0.5 | I2: upper bound
G3: b | H3: 0.05 | I3: lower bound
G4: c | H4: 3.5 | I4: The model is S-shaped for c>1 and concave for 0<c<1 (Not true) ==> Elasticity
G5: d | H5: 100 | I5: ??
J7: In Excel caret symbo, you can press Shift 6
A10: Ad Budget in Millions | B10: Market Share in % | N10: Fill data automatically in worksheet cells (microsoft.com)
A11: X | B11: Y
A12: 0.4 | B12: =B_LowerBound+(A_upperBound-B_LowerBound)*((A12^C_S_Shape)/($H$5+($H$5+A12^C_S_Shape))) -> 0.050091055
A13: 0.5 | B13: =B_LowerBound+(A_upperBound-B_LowerBound)*((A13^C_S_Shape)/($H$5+($H$5+A13^C_S_Shape))) -> 0.050198786
A14: 0.6 | B14: =B_LowerBound+(A_upperBound-B_LowerBound)*((A14^C_S_Shape)/($H$5+($H$5+A14^C_S_Shape))) -> 0.050376139
A15: 0.7 | B15: =B_LowerBound+(A_upperBound-B_LowerBound)*((A15^C_S_Shape)/($H$5+($H$5+A15^C_S_Shape))) -> 0.050644767
A16: 0.8 | B16: =B_LowerBound+(A_upperBound-B_LowerBound)*((A16^C_S_Shape)/($H$5+($H$5+A16^C_S_Shape))) -> 0.051028026
A17: 0.9 | B17: =B_LowerBound+(A_upperBound-B_LowerBound)*((A17^C_S_Shape)/($H$5+($H$5+A17^C_S_Shape))) -> 0.051550715
A18: 1 | B18: =B_LowerBound+(A_upperBound-B_LowerBound)*((A18^C_S_Shape)/($H$5+($H$5+A18^C_S_Shape))) -> 0.052238806
A19: 1.1 | B19: =B_LowerBound+(A_upperBound-B_LowerBound)*((A19^C_S_Shape)/($H$5+($H$5+A19^C_S_Shape))) -> 0.053119149
A20: 1.2 | B20: =B_LowerBound+(A_upperBound-B_LowerBound)*((A20^C_S_Shape)/($H$5+($H$5+A20^C_S_Shape))) -> 0.054219158
A21: 1.3 | B21: =B_LowerBound+(A_upperBound-B_LowerBound)*((A21^C_S_Shape)/($H$5+($H$5+A21^C_S_Shape))) -> 0.055566453
A22: 1.4 | B22: =B_LowerBound+(A_upperBound-B_LowerBound)*((A22^C_S_Shape)/($H$5+($H$5+A22^C_S_Shape))) -> 0.05718848
A23: 1.5 | B23: =B_LowerBound+(A_upperBound-B_LowerBound)*((A23^C_S_Shape)/($H$5+($H$5+A23^C_S_Shape))) -> 0.059112082
... A140: 13.2 | B140: =B_LowerBound+(A_upperBound-B_LowerBound)*((A140^C_S_Shape)/($H$5+($H$5+A140^C_S_Shape))) -> 0.48948131

Sheet Introduction
B2: ADBUDG Advertising Budgeting
B3: ADBUDG advertising budgeting spreadsheet for the Blue Mountain Coffee exercise
B6: Introduction
B7: ADBUDG is an advertising sales response model developed by Little (1970) that uses judgmental inputs on market response to determine the best level and timing of advertising expenditures.
B8: This implementation of ADBUDG is designed to accompany the Blue Mountain Coffee case.
B11: How to use this spreadsheet
B12: First, you need to open the calibration sheet, and calibrate the ADBUDG response model using Solver. The ADBUDG response model predicts changes in market shares based on changes in advertising spending.
B13: Once the ADBUDG response function has been calibrated, open the forecasting sheet, setup your goals, assign weights to each of these goals, and run Solver to find the optimal solution.
D15: Bright yellow indicates a cell you should change.
D17: Faded yellow indicates a cell you are allowed to modify. Do this only if you have good reasons to do so.

Sheet Calibration
B2: AdBudg Calibration
B3: Specify the initial share at the beginning of the period, and the share at the end of the period for different levels of advertising spending.
B4: If you change calibration values, you will need to recalibrate the curve (parameters c and d). Please refer to the tutorial.
D6: Share | H6: 0.063 | I6: Maximum Share at End
H9: 0.057 | I9: End Share with +20% Advertising
B12: Initial Market Share | D12: 0.054 | H12: =D12 -> 0.054 | I12: Initial Market Share
B14: Calibration Errors | D14: =1000000000*((D12-C31)^2+(H9-C32)^2) -> 2.3557148e-06
B15: Parameter c | D15: 4.1800998 | H15: 0.047 | I15: Minimum Share at End
B16: Parameter d | D16: 23.306431
B17: Persistence | D17: =(H15-H18)/(H12-H18) -> 0.87037037
B18: Initial Advertising Budget | D18: 2 | H18: 0 | I18: Long-Run Share (without spending)
F19: Time
F20: (one period)
B22: AdBudg Response Curve
B23: Shows share at the end of the period, for different levels of advertising spending.
B25: Advertising Budget | C25: Share at End of Period
B26: No advertising | C26: =H15 -> 0.047
B27: =D18*0.2 -> 0.4 | C27: =$H$15 + (($H$6-$H$15) * ((B27)^$D$15) / ($D$16+((B27)^$D$15))) -> 0.047014887
B28: =D18*0.4 -> 0.8 | C28: =$H$15 + (($H$6-$H$15) * ((B28)^$D$15) / ($D$16+((B28)^$D$15))) -> 0.047265632
B29: =D18*0.6 -> 1.2 | C29: =$H$15 + (($H$6-$H$15) * ((B29)^$D$15) / ($D$16+((B29)^$D$15))) -> 0.048347195
B30: =D18*0.8 -> 1.6 | C30: =$H$15 + (($H$6-$H$15) * ((B30)^$D$15) / ($D$16+((B30)^$D$15))) -> 0.050749147
B31: =D18 -> 2 | C31: =$H$15 + (($H$6-$H$15) * ((B31)^$D$15) / ($D$16+((B31)^$D$15))) -> 0.054000037
B32: =D18*1.2 -> 2.4 | C32: =$H$15 + (($H$6-$H$15) * ((B32)^$D$15) / ($D$16+((B32)^$D$15))) -> 0.056999969
B33: =D18*1.4 -> 2.8 | C33: =$H$15 + (($H$6-$H$15) * ((B33)^$D$15) / ($D$16+((B33)^$D$15))) -> 0.0591673
B34: =D18*1.6 -> 3.2 | C34: =$H$15 + (($H$6-$H$15) * ((B34)^$D$15) / ($D$16+((B34)^$D$15))) -> 0.060556339
B35: =D18*1.8 -> 3.6 | C35: =$H$15 + (($H$6-$H$15) * ((B35)^$D$15) / ($D$16+((B35)^$D$15))) -> 0.061412166
B36: =D18*2 -> 4 | C36: =$H$15 + (($H$6-$H$15) * ((B36)^$D$15) / ($D$16+((B36)^$D$15))) -> 0.061940343
B37: Saturation | C37: =H6 -> 0.063

Sheet Forecasting
B2: Forecasting Parameters
B3: Copy Effectiveness | D3: 1
B4: Media Efficiency | D4: 1
B5: Initial Share | D5: 0.054
B6: Brand Price/Unit | D6: 17.2
B7: Contribution/Unit | D7: 4.5
B8: Average Product Price/Unit | D8: 17.2
B9: Sales per Period | D9: 22
B10: Sales Growth Rate/Period | D10: 0.01
B13: Forecasts
B14: Period | C14: Advertising | D14: Annual Adv. Budget | E14: Copy Effectiveness | F14: Media Efficiency | G14: Share | H14: Brand Sales | J14: Product Class Sales | L14: Contribution
H15: Units | I15: Dollars | J15: Units | K15: Dollars | L15: Before Adv. | M15: After Adv. | N15: Cumulative
B16: Initial | G16: =D5 -> 0.054
B17: Q1 | C17: 2 | E17: =$D$3 -> 1 | F17: =$D$4 -> 1 | G17: =Calibration!$H$18+Calibration!$D$17*(G16-Calibration!$H$18)+(Calibration!$H$6-Calibration!$H$15)*((MAX(0,C17)*E17*F17)^Calibration!$D$15/(Calibration!$D$16+(MAX(0,C17)*E17*F17)^Calibration!$D$15)) -> 0.054000037 | H17: =G17*J17 -> 1.1880008 | I17: =H17*$D$6 -> 20.433614 | J17: =D9 -> 22 | K17: =J17*$D$8 -> 378.4 | L17: =H17*$D$7 -> 5.3460037 | M17: =L17-$C17 -> 3.3460037 | N17: =M17 -> 3.3460037
B18: Q2 | C18: 2 | E18: =$D$3 -> 1 | F18: =$D$4 -> 1 | G18: =Calibration!$H$18+Calibration!$D$17*(G17-Calibration!$H$18)+(Calibration!$H$6-Calibration!$H$15)*((MAX(0,C18)*E18*F18)^Calibration!$D$15/(Calibration!$D$16+(MAX(0,C18)*E18*F18)^Calibration!$D$15)) -> 0.05400007 | H18: =G18*J18 -> 1.1998816 | I18: =H18*$D$6 -> 20.637963 | J18: =J17*(1+$D$10) -> 22.22 | K18: =J18*$D$8 -> 382.184 | L18: =H18*$D$7 -> 5.399467 | M18: =L18-$C18 -> 3.399467 | N18: =M18+N17 -> 6.7454707
B19: Q3 | C19: 2 | E19: =$D$3 -> 1 | F19: =$D$4 -> 1 | G19: =Calibration!$H$18+Calibration!$D$17*(G18-Calibration!$H$18)+(Calibration!$H$6-Calibration!$H$15)*((MAX(0,C19)*E19*F19)^Calibration!$D$15/(Calibration!$D$16+(MAX(0,C19)*E19*F19)^Calibration!$D$15)) -> 0.054000098 | H19: =G19*J19 -> 1.211881 | I19: =H19*$D$6 -> 20.844353 | J19: =J18*(1+$D$10) -> 22.4422 | K19: =J19*$D$8 -> 386.00584 | L19: =H19*$D$7 -> 5.4534645 | M19: =L19-$C19 -> 3.4534645 | N19: =M19+N18 -> 10.198935
B20: Q4 | C20: 2 | D20: =SUM(C17:C20) -> 8 | E20: =$D$3 -> 1 | F20: =$D$4 -> 1 | G20: =Calibration!$H$18+Calibration!$D$17*(G19-Calibration!$H$18)+(Calibration!$H$6-Calibration!$H$15)*((MAX(0,C20)*E20*F20)^Calibration!$D$15/(Calibration!$D$16+(MAX(0,C20)*E20*F20)^Calibration!$D$15)) -> 0.054000123 | H20: =G20*J20 -> 1.2240004 | I20: =H20*$D$6 -> 21.052806 | J20: =J19*(1+$D$10) -> 22.666622 | K20: =J20*$D$8 -> 389.8659 | L20: =H20*$D$7 -> 5.5080017 | M20: =L20-$C20 -> 3.5080017 | N20: =M20+N19 -> 13.706937
B21: Q1 | C21: 2 | E21: =$D$3 -> 1 | F21: =$D$4 -> 1 | G21: =Calibration!$H$18+Calibration!$D$17*(G20-Calibration!$H$18)+(Calibration!$H$6-Calibration!$H$15)*((MAX(0,C21)*E21*F21)^Calibration!$D$15/(Calibration!$D$16+(MAX(0,C21)*E21*F21)^Calibration!$D$15)) -> 0.054000144 | H21: =G21*J21 -> 1.2362409 | I21: =H21*$D$6 -> 21.263343 | J21: =J20*(1+$D$10) -> 22.893288 | K21: =J21*$D$8 -> 393.76456 | L21: =H21*$D$7 -> 5.5630839 | M21: =L21-$C21 -> 3.5630839 | N21: =M21+N20 -> 17.270021
B22: Q2 | C22: 2 | E22: =$D$3 -> 1 | F22: =$D$4 -> 1 | G22: =Calibration!$H$18+Calibration!$D$17*(G21-Calibration!$H$18)+(Calibration!$H$6-Calibration!$H$15)*((MAX(0,C22)*E22*F22)^Calibration!$D$15/(Calibration!$D$16+(MAX(0,C22)*E22*F22)^Calibration!$D$15)) -> 0.054000163 | H22: =G22*J22 -> 1.2486037 | I22: =H22*$D$6 -> 21.475984 | J22: =J21*(1+$D$10) -> 23.122221 | K22: =J22*$D$8 -> 397.7022 | L22: =H22*$D$7 -> 5.6187167 | M22: =L22-$C22 -> 3.6187167 | N22: =M22+N21 -> 20.888737
B23: Q3 | C23: 2 | E23: =$D$3 -> 1 | F23: =$D$4 -> 1 | G23: =Calibration!$H$18+Calibration!$D$17*(G22-Calibration!$H$18)+(Calibration!$H$6-Calibration!$H$15)*((MAX(0,C23)*E23*F23)^Calibration!$D$15/(Calibration!$D$16+(MAX(0,C23)*E23*F23)^Calibration!$D$15)) -> 0.054000179 | H23: =G23*J23 -> 1.2610901 | I23: =H23*$D$6 -> 21.69075 | J23: =J22*(1+$D$10) -> 23.353443 | K23: =J23*$D$8 -> 401.67922 | L23: =H23*$D$7 -> 5.6749055 | M23: =L23-$C23 -> 3.6749055 | N23: =M23+N22 -> 24.563643
B24: Q4 | C24: 2 | D24: =SUM(C21:C24) -> 8 | E24: =$D$3 -> 1 | F24: =$D$4 -> 1 | G24: =Calibration!$H$18+Calibration!$D$17*(G23-Calibration!$H$18)+(Calibration!$H$6-Calibration!$H$15)*((MAX(0,C24)*E24*F24)^Calibration!$D$15/(Calibration!$D$16+(MAX(0,C24)*E24*F24)^Calibration!$D$15)) -> 0.054000193 | H24: =G24*J24 -> 1.2737014 | I24: =H24*$D$6 -> 21.907663 | J24: =J23*(1+$D$10) -> 23.586978 | K24: =J24*$D$8 -> 405.69602 | L24: =H24*$D$7 -> 5.7316561 | M24: =L24-$C24 -> 3.7316561 | N24: =M24+N23 -> 28.295299
B25: Q1 | C25: 2 | E25: =$D$3 -> 1 | F25: =$D$4 -> 1 | G25: =Calibration!$H$18+Calibration!$D$17*(G24-Calibration!$H$18)+(Calibration!$H$6-Calibration!$H$15)*((MAX(0,C25)*E25*F25)^Calibration!$D$15/(Calibration!$D$16+(MAX(0,C25)*E25*F25)^Calibration!$D$15)) -> 0.054000205 | H25: =G25*J25 -> 1.2864387 | I25: =H25*$D$6 -> 22.126745 | J25: =J24*(1+$D$10) -> 23.822848 | K25: =J25*$D$8 -> 409.75298 | L25: =H25*$D$7 -> 5.788974 | M25: =L25-$C25 -> 3.788974 | N25: =M25+N24 -> 32.084273
B26: Q2 | C26: 2 | E26: =$D$3 -> 1 | F26: =$D$4 -> 1 | G26: =Calibration!$H$18+Calibration!$D$17*(G25-Calibration!$H$18)+(Calibration!$H$6-Calibration!$H$15)*((MAX(0,C26)*E26*F26)^Calibration!$D$15/(Calibration!$D$16+(MAX(0,C26)*E26*F26)^Calibration!$D$15)) -> 0.054000216 | H26: =G26*J26 -> 1.2993033 | I26: =H26*$D$6 -> 22.348017 | J26: =J25*(1+$D$10) -> 24.061076 | K26: =J26*$D$8 -> 413.85051 | L26: =H26*$D$7 -> 5.8468649 | M26: =L26-$C26 -> 3.8468649 | N26: =M26+N25 -> 35.931138
B27: Q3 | C27: 2 | E27: =$D$3 -> 1 | F27: =$D$4 -> 1 | G27: =Calibration!$H$18+Calibration!$D$17*(G26-Calibration!$H$18)+(Calibration!$H$6-Calibration!$H$15)*((MAX(0,C27)*E27*F27)^Calibration!$D$15/(Calibration!$D$16+(MAX(0,C27)*E27*F27)^Calibration!$D$15)) -> 0.054000225 | H27: =G27*J27 -> 1.3122966 | I27: =H27*$D$6 -> 22.571501 | J27: =J26*(1+$D$10) -> 24.301687 | K27: =J27*$D$8 -> 417.98901 | L27: =H27*$D$7 -> 5.9053345 | M27: =L27-$C27 -> 3.9053345 | N27: =M27+N26 -> 39.836472
B28: Q4 | C28: 2 | D28: =SUM(C25:C28) -> 8 | E28: =$D$3 -> 1 | F28: =$D$4 -> 1 | G28: =Calibration!$H$18+Calibration!$D$17*(G27-Calibration!$H$18)+(Calibration!$H$6-Calibration!$H$15)*((MAX(0,C28)*E28*F28)^Calibration!$D$15/(Calibration!$D$16+(MAX(0,C28)*E28*F28)^Calibration!$D$15)) -> 0.054000233 | H28: =G28*J28 -> 1.3254197 | I28: =H28*$D$6 -> 22.797219 | J28: =J27*(1+$D$10) -> 24.544704 | K28: =J28*$D$8 -> 422.1689 | L28: =H28*$D$7 -> 5.9643888 | M28: =L28-$C28 -> 3.9643888 | N28: =M28+N27 -> 43.800861
B31: Multicriteria GoalSeek
B32: Set the reference point and weight of each objective.
D33: Reference Points | E33: Weights | F33: Scaled Weights | G33: Scaled Values | H33: Weighted Objective
B34: Short Term Profit | D34: 13.71 | E34: 1 | F34: =E34/SUM(E$34:E$37) -> 0.25 | G34: =N20/D34 -> 0.99977657 | H34: =SUMPRODUCT(F34:F37,G34:G37) -> 0.99994906
B35: Long Term Profit | D35: 43.8 | E35: 1 | F35: =E35/SUM(E$34:E$37) -> 0.25 | G35: =N28/D35 -> 1.0000197
B36: Short Term Share | D36: 0.054000123 | E36: 1 | F36: =E36/SUM(E$34:E$37) -> 0.25 | G36: =G20/D36 -> 1
B37: Long Term Share | D37: 0.054000233 | E37: 1 | F37: =E37/SUM(E$34:E$37) -> 0.25 | G37: =G28/D37 -> 1

Sheet ME_value-in-use_hidden
B2: Attention: This sheet contains all the intermediary calculations, do not enter or change any value in this sheet
C3: To change the data, go to the "DATA" sheet and enter new values
A5: Original Data
A6: Machine Price | B6: =Calibration!#REF! -> #REF! | F6: Disc. MULT | G6: =1/(1+B9) -> #REF!
A7: Salvage Value (New machine( | B7: =Calibration!H12 -> 0.054 | I7: Break Even
A8: Salvage Value (Old Machine) | B8: =Calibration!H18 -> 0 | F8: Price/Plate | G8: Buyer DCF | H8: Seller DCF | I8: Buyer DCF | J8: Seller DCF
A9: Discount Rate | B9: =Calibration!#REF! -> #REF! | G9: =K35 -> #REF! | H9: =M35 -> #REF!
A10: New Price/Plate Incr/Yr | B10: =Calibration!#REF! -> #REF! | F10: =B21 -> #REF! | G10: #REF! | H10: #REF! | I10: =G10+MPRICE -> #REF! | J10: =MPRICE-H10 -> #REF!
A11: Old Price/Plate Incr/Yr | B11: =Calibration!#REF! -> #REF! | F11: =F10+B$22 -> #REF! | G11: #REF! | H11: #REF! | I11: =G11+MPRICE -> #REF! | J11: =MPRICE-H11 -> #REF!
A12: Use Growth/Yr | B12: =Calibration!#REF! -> #REF! | F12: =F11+B$22 -> #REF! | G12: #REF! | H12: #REF! | I12: =G12+MPRICE -> #REF! | J12: =MPRICE-H12 -> #REF!
A13: Number of Years ( >= 2) | B13: =Calibration!#REF! -> #REF! | F13: =F12+B$22 -> #REF! | G13: #REF! | H13: #REF! | I13: =G13+MPRICE -> #REF! | J13: =MPRICE-H13 -> #REF!
A14: Machine Cost | B14: =Calibration!#REF! -> #REF! | F14: =F13+B$22 -> #REF! | G14: #REF! | H14: #REF! | I14: =G14+MPRICE -> #REF! | J14: =MPRICE-H14 -> #REF!
A15: Production Cost Per Plate | B15: =Calibration!#REF! -> #REF! | F15: =F14+B$22 -> #REF! | G15: #REF! | H15: #REF! | I15: =G15+MPRICE -> #REF! | J15: =MPRICE-H15 -> #REF!
A16: Initial Annual Number of Plates | B16: =Calibration!H15 -> 0.047 | F16: =F15+B$22 -> #REF! | G16: #REF! | H16: #REF! | I16: =G16+MPRICE -> #REF! | J16: =MPRICE-H16 -> #REF!
A17: Initial (New) Price/Plate | B17: =Calibration!#REF! -> #REF! | F17: =F16+B$22 -> #REF! | G17: #REF! | H17: #REF! | I17: =G17+MPRICE -> #REF! | J17: =MPRICE-H17 -> #REF!
A18: Initial (Old) Price/Plate | B18: =Calibration!#REF! -> #REF! | F18: =F17+B$22 -> #REF! | G18: #REF! | H18: #REF! | I18: =G18+MPRICE -> #REF! | J18: =MPRICE-H18 -> #REF!
A19: Machine Price Start = | B19: =Calibration!#REF! -> #REF! | F19: =F18+B$22 -> #REF! | G19: #REF! | H19: #REF! | I19: =G19+MPRICE -> #REF! | J19: =MPRICE-H19 -> #REF!
A20: Machine Price Step = | B20: =Calibration!#REF! -> #REF!
A21: Price/Plate Start = | B21: =Calibration!#REF! -> #REF! | F21: Machine Price Table
A22: Price/Plate Step = | B22: =Calibration!#REF! -> #REF! | G22: Buyer DCF | H22: Seller DCF
G23: =K35 -> #REF! | H23: =M35 -> #REF!
F24: =B19 -> #REF! | G24: #REF! | H24: #REF!
F25: =F24+B$20 -> #REF! | G25: #REF! | H25: #REF!
F26: =F25+B$20 -> #REF! | G26: #REF! | H26: #REF!
F27: =F26+B$20 -> #REF! | G27: #REF! | H27: #REF!
F28: =F27+B$20 -> #REF! | G28: #REF! | H28: #REF!
F29: =F28+B$20 -> #REF! | G29: #REF! | H29: #REF!
F30: =F29+B$20 -> #REF! | G30: #REF! | H30: #REF!
F31: =F30+B$20 -> #REF! | G31: #REF! | H31: #REF!
F32: =F31+B$20 -> #REF! | G32: #REF! | H32: #REF!
F33: =F32+B$20 -> #REF! | G33: #REF! | H33: #REF!
I35: TOTALS = | J35: =SUM(J39:J108)+SV_New -> #REF! | K35: =SUM(K39:K48)+SV_New*DMULT^(N_years-1) -> #REF! | L35: =SUM(L39:L108) -> #REF! | M35: =SUM(M39:M108) -> #REF!
G37: Number of | H37: Old Price | I37: New Price | J37: Buyer | K37: Buyer | L37: Seller | M37: Seller
F38: Year | G38: Plates | H38: Per Plate | I38: Per Plate | J38: Cash Flow | K38: DCF | L38: Cash Flow | M38: DCF
D39: 1 | E39: =IF(AND(D39>0,D39<=N_years),1,0) -> #REF! | F39: =IF(E39=1,D39,"") -> #REF! | G39: =B16 -> 0.047 | H39: =Old_ppp -> #REF! | I39: =new_ppp -> #REF! | J39: =(G39*(H39-I39)+SV_Old-MPRICE) -> #REF! | K39: =J39*DMULT^(F39-1) -> #REF! | L39: =G39*(I39-CPP)+MPRICE-MCOST -> #REF! | M39: =L39*DMULT^(F39-1) -> #REF!
D40: 2 | E40: =IF(AND(D40>0,D40<=N_years),1,0) -> #REF! | F40: =IF(E40=1,D40,"") -> #REF! | G40: =IF(E40=1,E40*(G39*(1+growth)),"") -> #REF! | H40: =IF(E40=1,E40*(H39*(1+Old_ppp_inc)),"") -> #REF! | I40: =IF(E40=1,E40*(I39*(1+new_ppp_inc)),"") -> #REF! | J40: =IF(E40=1,E40*(G40*(H40-I40)),"") -> #REF! | K40: =IF(E40=1,E40*(J40*DMULT^(F40-1)),"") -> #REF! | L40: =IF(E40=1,E40*(G40*(I40-CPP)),"") -> #REF! | M40: =IF(E40=1,E40*(L40*DMULT^(F40-1)),"") -> #REF!
D41: 3 | E41: =IF(AND(D41>0,D41<=N_years),1,0) -> #REF! | F41: =IF(E41=1,D41,"") -> #REF! | G41: =IF(E41=1,E41*(G40*(1+growth)),"") -> #REF! | H41: =IF(E41=1,E41*(H40*(1+Old_ppp_inc)),"") -> #REF! | I41: =IF(E41=1,E41*(I40*(1+new_ppp_inc)),"") -> #REF! | J41: =IF(E41=1,E41*(G41*(H41-I41)),"") -> #REF! | K41: =IF(E41=1,E41*(J41*DMULT^(F41-1)),"") -> #REF! | L41: =IF(E41=1,E41*(G41*(I41-CPP)),"") -> #REF! | M41: =IF(E41=1,E41*(L41*DMULT^(F41-1)),"") -> #REF!
D42: 4 | E42: =IF(AND(D42>0,D42<=N_years),1,0) -> #REF! | F42: =IF(E42=1,D42,"") -> #REF! | G42: =IF(E42=1,E42*(G41*(1+growth)),"") -> #REF! | H42: =IF(E42=1,E42*(H41*(1+Old_ppp_inc)),"") -> #REF! | I42: =IF(E42=1,E42*(I41*(1+new_ppp_inc)),"") -> #REF! | J42: =IF(E42=1,E42*(G42*(H42-I42)),"") -> #REF! | K42: =IF(E42=1,E42*(J42*DMULT^(F42-1)),"") -> #REF! | L42: =IF(E42=1,E42*(G42*(I42-CPP)),"") -> #REF! | M42: =IF(E42=1,E42*(L42*DMULT^(F42-1)),"") -> #REF!
D43: 5 | E43: =IF(AND(D43>0,D43<=N_years),1,0) -> #REF! | F43: =IF(E43=1,D43,"") -> #REF! | G43: =IF(E43=1,E43*(G42*(1+growth)),"") -> #REF! | H43: =IF(E43=1,E43*(H42*(1+Old_ppp_inc)),"") -> #REF! | I43: =IF(E43=1,E43*(I42*(1+new_ppp_inc)),"") -> #REF! | J43: =IF(E43=1,E43*(G43*(H43-I43)),"") -> #REF! | K43: =IF(E43=1,E43*(J43*DMULT^(F43-1)),"") -> #REF! | L43: =IF(E43=1,E43*(G43*(I43-CPP)),"") -> #REF! | M43: =IF(E43=1,E43*(L43*DMULT^(F43-1)),"") -> #REF!
D44: 6 | E44: =IF(AND(D44>0,D44<=N_years),1,0) -> #REF! | F44: =IF(E44=1,D44,"") -> #REF! | G44: =IF(E44=1,E44*(G43*(1+growth)),"") -> #REF! | H44: =IF(E44=1,E44*(H43*(1+Old_ppp_inc)),"") -> #REF! | I44: =IF(E44=1,E44*(I43*(1+new_ppp_inc)),"") -> #REF! | J44: =IF(E44=1,E44*(G44*(H44-I44)),"") -> #REF! | K44: =IF(E44=1,E44*(J44*DMULT^(F44-1)),"") -> #REF! | L44: =IF(E44=1,E44*(G44*(I44-CPP)),"") -> #REF! | M44: =IF(E44=1,E44*(L44*DMULT^(F44-1)),"") -> #REF!
...
